Package: NetActivity Version: 1.13.0 Command: /Library/Frameworks/R.framework/Resources/bin/R CMD build --keep-empty-dirs --no-resave-data NetActivity StartedAt: 2025-11-13 17:11:44 -0500 (Thu, 13 Nov 2025) EndedAt: 2025-11-13 17:12:09 -0500 (Thu, 13 Nov 2025) EllapsedTime: 25.3 seconds RetCode: 0 Status: OK PackageFile: NetActivity_1.13.0.tar.gz PackageFileSize: 438.2 KiB