Package: NetActivity Version: 1.13.0 Maintainer: Carlos Ruiz-Arenas MaintainerEmail: carlos.ruiza at upf.edu git_url: https://git.bioconductor.org/packages/NetActivity git_branch: devel git_last_commit: 0cad5d9 git_last_commit_date: 2025-10-29 11:19:51 -0500 (Wed, 29 Oct 2025)