Package: Nebulosa Version: 1.21.0 Command: /Library/Frameworks/R.framework/Resources/bin/R CMD build --keep-empty-dirs --no-resave-data Nebulosa StartedAt: 2025-11-13 17:11:41 -0500 (Thu, 13 Nov 2025) EndedAt: 2025-11-13 17:13:02 -0500 (Thu, 13 Nov 2025) EllapsedTime: 80.9 seconds RetCode: 0 Status: OK PackageFile: Nebulosa_1.21.0.tar.gz PackageFileSize: 3.685 MiB