Package: Nebulosa Version: 1.21.0 Maintainer: Jose Alquicira-Hernandez MaintainerEmail: alquicirajose at gmail.com git_url: https://git.bioconductor.org/packages/Nebulosa git_branch: devel git_last_commit: 7bc1fc4 git_last_commit_date: 2025-10-29 11:01:25 -0500 (Wed, 29 Oct 2025)