Package: NanoStringNCTools Version: 1.19.0 Command: /home/biocbuild/bbs-3.23-bioc/R/bin/R CMD INSTALL NanoStringNCTools StartedAt: 2025-11-14 15:16:24 -0500 (Fri, 14 Nov 2025) EndedAt: 2025-11-14 15:16:41 -0500 (Fri, 14 Nov 2025) EllapsedTime: 17.5 seconds RetCode: 0 Status: OK