Package: NanoStringNCTools Version: 1.19.0 Command: /Library/Frameworks/R.framework/Resources/bin/R CMD check --install=check:NanoStringNCTools.install-out.txt --library=/Library/Frameworks/R.framework/Resources/library --no-vignettes --timings NanoStringNCTools_1.19.0.tar.gz StartedAt: 2025-11-12 19:37:50 -0500 (Wed, 12 Nov 2025) EndedAt: 2025-11-12 19:38:43 -0500 (Wed, 12 Nov 2025) EllapsedTime: 52.7 seconds RetCode: 0 Status: OK CheckDir: NanoStringNCTools.Rcheck Warnings: 0