Package: NanoStringNCTools Version: 1.19.0 Command: /Library/Frameworks/R.framework/Resources/bin/R CMD build --keep-empty-dirs --no-resave-data NanoStringNCTools StartedAt: 2025-11-12 16:48:59 -0500 (Wed, 12 Nov 2025) EndedAt: 2025-11-12 16:49:13 -0500 (Wed, 12 Nov 2025) EllapsedTime: 14.2 seconds RetCode: 0 Status: OK PackageFile: NanoStringNCTools_1.19.0.tar.gz PackageFileSize: 505.8 KiB