Package: NanoStringNCTools Version: 1.19.0 Command: rm -rf NanoStringNCTools.buildbin-libdir && mkdir NanoStringNCTools.buildbin-libdir && /Users/biocbuild/BBS/utils/build-universal.sh NanoStringNCTools_1.19.0.tar.gz /Library/Frameworks/R.framework/Resources/bin/R NanoStringNCTools.buildbin-libdir StartedAt: 2025-11-12 21:04:29 -0500 (Wed, 12 Nov 2025) EndedAt: 2025-11-12 21:04:37 -0500 (Wed, 12 Nov 2025) EllapsedTime: 8.1 seconds RetCode: 0 Status: OK PackageFile: NanoStringNCTools_1.19.0.tgz PackageFileSize: 1.047 MiB