Package: NanoMethViz Version: 3.7.0 Command: /Library/Frameworks/R.framework/Resources/bin/R CMD build --keep-empty-dirs --no-resave-data NanoMethViz StartedAt: 2025-11-13 17:11:03 -0500 (Thu, 13 Nov 2025) EndedAt: 2025-11-13 17:12:04 -0500 (Thu, 13 Nov 2025) EllapsedTime: 61.7 seconds RetCode: 0 Status: OK PackageFile: NanoMethViz_3.7.0.tar.gz PackageFileSize: 13.92 MiB