Package: NanoMethViz Version: 3.7.0 Maintainer: Shian Su MaintainerEmail: su.s at wehi.edu.au git_url: https://git.bioconductor.org/packages/NanoMethViz git_branch: devel git_last_commit: 4349b36 git_last_commit_date: 2025-10-29 11:04:08 -0500 (Wed, 29 Oct 2025)