Package: NTW Version: 1.61.0 Command: /Library/Frameworks/R.framework/Resources/bin/R CMD INSTALL NTW StartedAt: 2025-11-23 15:03:11 -0500 (Sun, 23 Nov 2025) EndedAt: 2025-11-23 15:03:21 -0500 (Sun, 23 Nov 2025) EllapsedTime: 9.2 seconds RetCode: 0 Status: OK