Package: NTW Version: 1.61.0 Command: /Library/Frameworks/R.framework/Resources/bin/R CMD build --keep-empty-dirs --no-resave-data NTW StartedAt: 2025-11-23 17:11:09 -0500 (Sun, 23 Nov 2025) EndedAt: 2025-11-23 17:11:14 -0500 (Sun, 23 Nov 2025) EllapsedTime: 5.1 seconds RetCode: 0 Status: OK PackageFile: NTW_1.61.0.tar.gz PackageFileSize: 872.1 KiB