Package: NPARC Version: 1.23.0 Command: /home/biocbuild/bbs-3.23-bioc/R/bin/R CMD INSTALL NPARC StartedAt: 2025-11-14 15:10:22 -0500 (Fri, 14 Nov 2025) EndedAt: 2025-11-14 15:10:34 -0500 (Fri, 14 Nov 2025) EllapsedTime: 12.2 seconds RetCode: 0 Status: OK