Package: NPARC Version: 1.23.0 Command: /Library/Frameworks/R.framework/Resources/bin/R CMD INSTALL NPARC StartedAt: 2025-11-13 15:05:26 -0500 (Thu, 13 Nov 2025) EndedAt: 2025-11-13 15:05:32 -0500 (Thu, 13 Nov 2025) EllapsedTime: 6.8 seconds RetCode: 0 Status: OK