Package: NPARC Version: 1.23.0 Command: /Library/Frameworks/R.framework/Resources/bin/R CMD build --keep-empty-dirs --no-resave-data NPARC StartedAt: 2025-11-13 17:13:07 -0500 (Thu, 13 Nov 2025) EndedAt: 2025-11-13 17:14:25 -0500 (Thu, 13 Nov 2025) EllapsedTime: 77.9 seconds RetCode: 0 Status: OK PackageFile: NPARC_1.23.0.tar.gz PackageFileSize: 2.306 MiB