Package: NPARC Version: 1.23.0 Command: rm -rf NPARC.buildbin-libdir && mkdir NPARC.buildbin-libdir && /Users/biocbuild/BBS/utils/build-universal.sh NPARC_1.23.0.tar.gz /Library/Frameworks/R.framework/Resources/bin/R NPARC.buildbin-libdir StartedAt: 2025-11-14 23:43:55 -0500 (Fri, 14 Nov 2025) EndedAt: 2025-11-14 23:44:00 -0500 (Fri, 14 Nov 2025) EllapsedTime: 4.1 seconds RetCode: 0 Status: OK PackageFile: NPARC_1.23.0.tgz PackageFileSize: 2.495 MiB