Package: NPARC Version: 1.23.0 Maintainer: Nils Kurzawa MaintainerEmail: nilskurzawa at gmail.com git_url: https://git.bioconductor.org/packages/NPARC git_branch: devel git_last_commit: fcf70e4 git_last_commit_date: 2025-10-29 10:56:00 -0500 (Wed, 29 Oct 2025)