Package: NOISeq Version: 2.55.0 Command: /Library/Frameworks/R.framework/Resources/bin/R CMD INSTALL NOISeq StartedAt: 2025-11-14 15:07:48 -0500 (Fri, 14 Nov 2025) EndedAt: 2025-11-14 15:07:53 -0500 (Fri, 14 Nov 2025) EllapsedTime: 4.8 seconds RetCode: 0 Status: OK