Package: NOISeq Version: 2.55.0 Command: /Library/Frameworks/R.framework/Resources/bin/R CMD build --keep-empty-dirs --no-resave-data NOISeq StartedAt: 2025-11-16 17:10:22 -0500 (Sun, 16 Nov 2025) EndedAt: 2025-11-16 17:10:54 -0500 (Sun, 16 Nov 2025) EllapsedTime: 31.3 seconds RetCode: 0 Status: OK PackageFile: NOISeq_2.55.0.tar.gz PackageFileSize: 2.057 MiB