Package: NOISeq Version: 2.55.0 Command: rm -rf NOISeq.buildbin-libdir && mkdir NOISeq.buildbin-libdir && /Users/biocbuild/BBS/utils/build-universal.sh NOISeq_2.55.0.tar.gz /Library/Frameworks/R.framework/Resources/bin/R NOISeq.buildbin-libdir StartedAt: 2025-11-16 23:44:56 -0500 (Sun, 16 Nov 2025) EndedAt: 2025-11-16 23:45:02 -0500 (Sun, 16 Nov 2025) EllapsedTime: 6.1 seconds RetCode: 0 Status: OK PackageFile: NOISeq_2.55.0.tgz PackageFileSize: 2.429 MiB