Package: NBAMSeq Version: 1.27.0 Command: /home/biocbuild/bbs-3.23-bioc/R/bin/R CMD INSTALL NBAMSeq StartedAt: 2025-11-13 15:36:22 -0500 (Thu, 13 Nov 2025) EndedAt: 2025-11-13 15:36:52 -0500 (Thu, 13 Nov 2025) EllapsedTime: 29.7 seconds RetCode: 0 Status: OK