Package: NBAMSeq Version: 1.27.0 Command: /home/biocbuild/bbs-3.23-bioc/R/bin/R CMD build --keep-empty-dirs --no-resave-data NBAMSeq StartedAt: 2025-11-11 19:01:36 -0500 (Tue, 11 Nov 2025) EndedAt: 2025-11-11 19:02:31 -0500 (Tue, 11 Nov 2025) EllapsedTime: 55.0 seconds RetCode: 0 Status: OK PackageFile: NBAMSeq_1.27.0.tar.gz PackageFileSize: 315.1 KiB