Package: NBAMSeq Version: 1.27.0 Maintainer: Xu Ren MaintainerEmail: xuren2120 at gmail.com git_url: https://git.bioconductor.org/packages/NBAMSeq git_branch: devel git_last_commit: e827f50 git_last_commit_date: 2025-10-29 10:51:23 -0500 (Wed, 29 Oct 2025)