Package: MutationalPatterns Version: 3.21.0 Command: /home/biocbuild/bbs-3.23-bioc/R/bin/R CMD INSTALL MutationalPatterns StartedAt: 2025-11-11 15:46:58 -0500 (Tue, 11 Nov 2025) EndedAt: 2025-11-11 15:47:17 -0500 (Tue, 11 Nov 2025) EllapsedTime: 18.9 seconds RetCode: 0 Status: OK