Package: MutationalPatterns Version: 3.21.0 Command: /home/biocbuild/bbs-3.23-bioc/R/bin/R CMD check --install=check:MutationalPatterns.install-out.txt --library=/home/biocbuild/bbs-3.23-bioc/R/site-library --timings MutationalPatterns_3.21.0.tar.gz StartedAt: 2025-11-12 01:52:59 -0500 (Wed, 12 Nov 2025) EndedAt: 2025-11-12 02:13:10 -0500 (Wed, 12 Nov 2025) EllapsedTime: 1211.0 seconds RetCode: 1 Status: ERROR CheckDir: MutationalPatterns.Rcheck Warnings: NA