Package: MutationalPatterns Version: 3.21.0 Command: /home/biocbuild/bbs-3.23-bioc/R/bin/R CMD build --keep-empty-dirs --no-resave-data MutationalPatterns StartedAt: 2025-11-11 18:59:56 -0500 (Tue, 11 Nov 2025) EndedAt: 2025-11-11 19:09:10 -0500 (Tue, 11 Nov 2025) EllapsedTime: 553.5 seconds RetCode: 0 Status: OK PackageFile: MutationalPatterns_3.21.0.tar.gz PackageFileSize: 5.688 MiB