Package: MutationalPatterns Version: 3.21.0 Maintainer: Mark van Roosmalen MaintainerEmail: vanBoxtelBioinformatics at prinsesmaximacentrum.nl git_url: https://git.bioconductor.org/packages/MutationalPatterns git_branch: devel git_last_commit: b3f3115 git_last_commit_date: 2025-10-29 10:35:07 -0500 (Wed, 29 Oct 2025)