Package: MultimodalExperiment Version: 1.11.0 Command: /home/biocbuild/bbs-3.23-bioc/R/bin/R CMD check --install=check:MultimodalExperiment.install-out.txt --library=/home/biocbuild/bbs-3.23-bioc/R/site-library --timings MultimodalExperiment_1.11.0.tar.gz StartedAt: 2025-11-14 01:55:19 -0500 (Fri, 14 Nov 2025) EndedAt: 2025-11-14 01:58:34 -0500 (Fri, 14 Nov 2025) EllapsedTime: 194.3 seconds RetCode: 0 Status: OK CheckDir: MultimodalExperiment.Rcheck Warnings: 0