Package: MultimodalExperiment Version: 1.11.0 Command: /Library/Frameworks/R.framework/Resources/bin/R CMD INSTALL MultimodalExperiment StartedAt: 2025-11-13 15:14:14 -0500 (Thu, 13 Nov 2025) EndedAt: 2025-11-13 15:14:24 -0500 (Thu, 13 Nov 2025) EllapsedTime: 10.4 seconds RetCode: 0 Status: OK