Package: MultimodalExperiment Version: 1.11.0 Command: /Library/Frameworks/R.framework/Resources/bin/R CMD check --install=check:MultimodalExperiment.install-out.txt --library=/Library/Frameworks/R.framework/Resources/library --no-vignettes --timings MultimodalExperiment_1.11.0.tar.gz StartedAt: 2025-11-14 21:16:37 -0500 (Fri, 14 Nov 2025) EndedAt: 2025-11-14 21:17:55 -0500 (Fri, 14 Nov 2025) EllapsedTime: 78.0 seconds RetCode: 0 Status: OK CheckDir: MultimodalExperiment.Rcheck Warnings: 0