Package: MultimodalExperiment Version: 1.11.0 Command: /Library/Frameworks/R.framework/Resources/bin/R CMD build --keep-empty-dirs --no-resave-data MultimodalExperiment StartedAt: 2025-11-13 17:09:34 -0500 (Thu, 13 Nov 2025) EndedAt: 2025-11-13 17:09:52 -0500 (Thu, 13 Nov 2025) EllapsedTime: 18.2 seconds RetCode: 0 Status: OK PackageFile: MultimodalExperiment_1.11.0.tar.gz PackageFileSize: 2.532 MiB