Package: MultiRNAflow Version: 1.9.0 Command: /Library/Frameworks/R.framework/Resources/bin/R CMD INSTALL MultiRNAflow StartedAt: 2025-11-12 15:26:27 -0500 (Wed, 12 Nov 2025) EndedAt: 2025-11-12 15:26:50 -0500 (Wed, 12 Nov 2025) EllapsedTime: 22.4 seconds RetCode: 0 Status: OK