Package: MultiRNAflow Version: 1.9.0 Command: /Library/Frameworks/R.framework/Resources/bin/R CMD build --keep-empty-dirs --no-resave-data MultiRNAflow StartedAt: 2025-11-13 17:09:37 -0500 (Thu, 13 Nov 2025) EndedAt: 2025-11-13 17:11:46 -0500 (Thu, 13 Nov 2025) EllapsedTime: 129.4 seconds RetCode: 0 Status: OK PackageFile: MultiRNAflow_1.9.0.tar.gz PackageFileSize: 3.134 MiB