Package: MultiRNAflow Version: 1.9.0 Command: rm -rf MultiRNAflow.buildbin-libdir && mkdir MultiRNAflow.buildbin-libdir && /Users/biocbuild/BBS/utils/build-universal.sh MultiRNAflow_1.9.0.tar.gz /Library/Frameworks/R.framework/Resources/bin/R MultiRNAflow.buildbin-libdir StartedAt: 2025-11-13 23:47:45 -0500 (Thu, 13 Nov 2025) EndedAt: 2025-11-13 23:49:13 -0500 (Thu, 13 Nov 2025) EllapsedTime: 88.9 seconds RetCode: 0 Status: OK PackageFile: MultiRNAflow_1.9.0.tgz PackageFileSize: 3.03 MiB