Package: MultiMed Version: 2.33.0 Command: /home/biocbuild/bbs-3.23-bioc/R/bin/R CMD INSTALL MultiMed StartedAt: 2025-11-14 15:02:59 -0500 (Fri, 14 Nov 2025) EndedAt: 2025-11-14 15:03:07 -0500 (Fri, 14 Nov 2025) EllapsedTime: 8.5 seconds RetCode: 0 Status: OK