Package: MultiMed Version: 2.33.0 Command: /home/biocbuild/bbs-3.23-bioc/R/bin/R CMD build --keep-empty-dirs --no-resave-data MultiMed StartedAt: 2025-11-14 18:54:54 -0500 (Fri, 14 Nov 2025) EndedAt: 2025-11-14 18:55:01 -0500 (Fri, 14 Nov 2025) EllapsedTime: 7.0 seconds RetCode: 0 Status: OK PackageFile: MultiMed_2.33.0.tar.gz PackageFileSize: 508.3 KiB