Package: MultiMed Version: 2.33.0 Command: /Library/Frameworks/R.framework/Resources/bin/R CMD INSTALL MultiMed StartedAt: 2025-11-14 15:01:53 -0500 (Fri, 14 Nov 2025) EndedAt: 2025-11-14 15:01:58 -0500 (Fri, 14 Nov 2025) EllapsedTime: 4.4 seconds RetCode: 0 Status: OK