Package: MultiMed Version: 2.33.0 Command: /Library/Frameworks/R.framework/Resources/bin/R CMD build --keep-empty-dirs --no-resave-data MultiMed StartedAt: 2025-11-14 17:06:37 -0500 (Fri, 14 Nov 2025) EndedAt: 2025-11-14 17:06:42 -0500 (Fri, 14 Nov 2025) EllapsedTime: 5.1 seconds RetCode: 0 Status: OK PackageFile: MultiMed_2.33.0.tar.gz PackageFileSize: 508.3 KiB