Package: MultiMed Version: 2.33.0 Command: rm -rf MultiMed.buildbin-libdir && mkdir MultiMed.buildbin-libdir && /Users/biocbuild/BBS/utils/build-universal.sh MultiMed_2.33.0.tar.gz /Library/Frameworks/R.framework/Resources/bin/R MultiMed.buildbin-libdir StartedAt: 2025-11-14 23:42:47 -0500 (Fri, 14 Nov 2025) EndedAt: 2025-11-14 23:42:49 -0500 (Fri, 14 Nov 2025) EllapsedTime: 2.0 seconds RetCode: 0 Status: OK PackageFile: MultiMed_2.33.0.tgz PackageFileSize: 526.1 KiB