Package: MultiMed Version: 2.33.0 Maintainer: Simina M. Boca MaintainerEmail: smb310 at georgetown.edu git_url: https://git.bioconductor.org/packages/MultiMed git_branch: devel git_last_commit: 8d1a5fe git_last_commit_date: 2025-10-29 10:20:27 -0500 (Wed, 29 Oct 2025)