Package: MultiDataSet Version: 1.39.0 Command: /home/biocbuild/bbs-3.23-bioc/R/bin/R CMD check --install=check:MultiDataSet.install-out.txt --library=/home/biocbuild/bbs-3.23-bioc/R/site-library --timings MultiDataSet_1.39.0.tar.gz StartedAt: 2025-11-14 01:53:56 -0500 (Fri, 14 Nov 2025) EndedAt: 2025-11-14 01:57:23 -0500 (Fri, 14 Nov 2025) EllapsedTime: 206.3 seconds RetCode: 0 Status: WARNINGS CheckDir: MultiDataSet.Rcheck Warnings: 1