Package: MultiDataSet Version: 1.39.0 Command: /home/biocbuild/bbs-3.23-bioc/R/bin/R CMD build --keep-empty-dirs --no-resave-data MultiDataSet StartedAt: 2025-11-11 18:58:40 -0500 (Tue, 11 Nov 2025) EndedAt: 2025-11-11 18:59:34 -0500 (Tue, 11 Nov 2025) EllapsedTime: 54.1 seconds RetCode: 0 Status: OK PackageFile: MultiDataSet_1.39.0.tar.gz PackageFileSize: 494.7 KiB