Package: MultiDataSet Version: 1.39.0 Command: /Library/Frameworks/R.framework/Resources/bin/R CMD INSTALL MultiDataSet StartedAt: 2025-11-12 15:25:50 -0500 (Wed, 12 Nov 2025) EndedAt: 2025-11-12 15:25:59 -0500 (Wed, 12 Nov 2025) EllapsedTime: 9.2 seconds RetCode: 0 Status: OK