Package: MultiBaC Version: 1.21.0 Command: /home/biocbuild/bbs-3.23-bioc/R/bin/R CMD build --keep-empty-dirs --no-resave-data MultiBaC StartedAt: 2025-11-13 18:54:16 -0500 (Thu, 13 Nov 2025) EndedAt: 2025-11-13 18:55:15 -0500 (Thu, 13 Nov 2025) EllapsedTime: 59.1 seconds RetCode: 0 Status: OK PackageFile: MultiBaC_1.21.0.tar.gz PackageFileSize: 1.742 MiB