Package: MultiBaC Version: 1.21.0 Command: /Library/Frameworks/R.framework/Resources/bin/R CMD build --keep-empty-dirs --no-resave-data MultiBaC StartedAt: 2025-11-13 17:09:20 -0500 (Thu, 13 Nov 2025) EndedAt: 2025-11-13 17:09:49 -0500 (Thu, 13 Nov 2025) EllapsedTime: 28.3 seconds RetCode: 0 Status: OK PackageFile: MultiBaC_1.21.0.tar.gz PackageFileSize: 1.745 MiB