Package: MultiBaC Version: 1.21.0 Command: rm -rf MultiBaC.buildbin-libdir && mkdir MultiBaC.buildbin-libdir && /Users/biocbuild/BBS/utils/build-universal.sh MultiBaC_1.21.0.tar.gz /Library/Frameworks/R.framework/Resources/bin/R MultiBaC.buildbin-libdir StartedAt: 2025-11-13 23:47:36 -0500 (Thu, 13 Nov 2025) EndedAt: 2025-11-13 23:47:41 -0500 (Thu, 13 Nov 2025) EllapsedTime: 4.1 seconds RetCode: 0 Status: OK PackageFile: MultiBaC_1.21.0.tgz PackageFileSize: 1.807 MiB