Package: MultiBaC Version: 1.21.0 Maintainer: The package maintainer MaintainerEmail: manuelugidos at gmail.com git_url: https://git.bioconductor.org/packages/MultiBaC git_branch: devel git_last_commit: 75d22ea git_last_commit_date: 2025-10-29 11:00:41 -0500 (Wed, 29 Oct 2025)