Package: MultiAssayExperiment Version: 1.37.1 Command: /home/biocbuild/bbs-3.23-bioc/R/bin/R CMD INSTALL MultiAssayExperiment StartedAt: 2025-11-13 15:19:51 -0500 (Thu, 13 Nov 2025) EndedAt: 2025-11-13 15:20:22 -0500 (Thu, 13 Nov 2025) EllapsedTime: 30.6 seconds RetCode: 0 Status: OK