Package: MultiAssayExperiment Version: 1.37.1 Command: /home/biocbuild/bbs-3.23-bioc/R/bin/R CMD build --keep-empty-dirs --no-resave-data MultiAssayExperiment StartedAt: 2025-11-13 18:54:14 -0500 (Thu, 13 Nov 2025) EndedAt: 2025-11-13 18:55:13 -0500 (Thu, 13 Nov 2025) EllapsedTime: 59.1 seconds RetCode: 0 Status: OK PackageFile: MultiAssayExperiment_1.37.1.tar.gz PackageFileSize: 1.319 MiB