Package: MultiAssayExperiment Version: 1.37.1 Command: /Library/Frameworks/R.framework/Resources/bin/R CMD INSTALL MultiAssayExperiment StartedAt: 2025-11-14 15:13:24 -0500 (Fri, 14 Nov 2025) EndedAt: 2025-11-14 15:13:37 -0500 (Fri, 14 Nov 2025) EllapsedTime: 12.9 seconds RetCode: 0 Status: OK